BEGIN:VCALENDAR
VERSION:2.0
PRODID:-//wp-events-plugin.com//7.2.3.1//EN
BEGIN:VEVENT
UID:3@kulturhof-zickra.de
DTSTART:20260704T200000Z
DTEND:20260704T220000Z
DTSTAMP:20260323T135414Z
URL:https://kulturhof-zickra.de/events/los-comandantes-konzert/
SUMMARY:Los Comandantes
DESCRIPTION:\nBeginn: 20 Uhr\, Einlass: 19 Uhr\, Eintritt: 28\,- Euro\n\n\n
 Ort: Kulturhof Zickra\, Zickra 31 · 07980 Berga/Elster\n\n\n\n\nKartenvor
 bestellung unter:\n0171 522 37 91 bzw. info@kulturhof-zickra.de\n&nbsp\;\n
 \nTickets kaufen\n\n\n\n\n\nLos Comandantes bringen gefühlvolle Boleros\,
  knackige Rumbas\, treibende  Trommelsolos und aufheizende Mitsing-Lieder
  wie Guantanamera\, O sole mio und Bamboleo auf die Bühnen dieser Welt. D
 och wer denkt die Stücke würden gespielt wie bekannt\, hat weit gefehlt.
  Die Band hat ihre Wurzeln in der afro-kubanischen Musik und somit wird au
 s Guantanamera durchaus auch mal ein Ska-Reggae klingendes Musikstück. Vo
 n gefühlvollen Liebesliedern bis hin zu spanischer Lebensfreude ist alles
  dabei. Die Band spielt  mit dem Sänger Pepe Cuesta (AK-Gitarre) und Kla
 us Neubert (E-Gitarre) zusammen. Das rhythmische Grundfundament wird von J
 ürgen Rübig (Jayesh genannt - Congas &amp\; Bongos) und Manfred Kaiser a
 m Bass gelegt. Die freundliche Truppe kennt nicht weniger als vierhundert 
 verschiedene Lieder aus der spanisch-mexikanischen Ecke. Somit kann je nac
 h Auftritt ein ausgewähltes Programm erstellt werden. Die Los Comandantes
  spielen bei Open Airs\, Hochzeiten\, Firmenfeiern\, Geburtstagen und Hall
 enkonzerten.\n\n\n\n&nbsp\;\n\n\n\n
ATTACH;FMTTYPE=image/jpeg:https://kulturhof-zickra.de/wp-content/uploads/2
 023/02/loscomandantes.jpg
END:VEVENT
END:VCALENDAR