BEGIN:VCALENDAR
VERSION:2.0
PRODID:-//wp-events-plugin.com//7.2.3.1//EN
BEGIN:VEVENT
UID:46@kulturhof-zickra.de
DTSTART:20260509T110000Z
DTEND:20260509T180000Z
DTSTAMP:20260424T124007Z
URL:https://kulturhof-zickra.de/events/kunsthandwerkermarkt-4/
SUMMARY:Kunsthandwerkermarkt
DESCRIPTION:Kulturhof Zickra\nZickra 31 · 07980 Berga / Elster\n09. und 10
 . Mai 2026 | Samstag 11 – 18 Uhr\, Sonntag 10 – 18 Uhr\n\n\n\n\nWie je
 des Jahr im Frühling lädt der Kulturhof Zickra bei Berga/Elster (Ostthü
 ringen) zum Markt ein. Am 09. und 10. Mai 2026 präsentieren über 60 Manu
 fakturen aus sechs Bundesländern feinste Qualität aus Kunst\, Design und
  Handwerk. Dazu ertönt handgemachte Livemusik.\nDie erlesene Vielfalt der
  dargebotenen Gewerke und Genres bzw. dessen Qualität ist nunmehr Wiedere
 rkennungswert und zugleich Markenzeichen des beliebten Marktes.\n\nUmgeben
  vom schönen Elstertal\, schließt sich idyllisch wie eh und je der urige
  und zugleich romantische Fachwerkhof auf\, dessen restaurierte historisch
 e Substanz -mit viel Liebe zum Detail- eine anheimelnde Kulisse bietet und
  mittlerweile zu einem bekannten Schauplatz in der Kulturszene geworden is
 t.\n\nDie über 60 Künstler\, Handwerker und Designer verlegen für ein W
 ochenende ihre Ateliers und Werkstätten auf den Kulturhof und integrieren
  ihre Ausstellung liebevoll in das herbstliche Fachwerkambiente. Tradition
  und Moderne treffen mit den vielfältigen Produkten erstaunlich gut aufei
 nander und laden ein zum Berühren\, Probieren und Erwerben.\n\nHolzgestal
 ter\, Buchbinder\, Schmuck- und Textildesigner\, Korbmacher und Floristen\
 , Keramiker und Bildhauer – um nur einen Teil zu erwähnen – bedienen 
 sich verschiedenster hochwertiger Materialien\, um diese aus zum Teil alte
 n Traditionen neu zu kreieren.\nInteressante Hüte\, wunderschöner Schmuc
 k\, ausgefallene Textilien\, wohlriechende Seifen mit Prädikat\, naturgef
 ärbte Wolle u.v.m. werden dem Besucher präsentiert.\nDer Markt auf dem K
 ulturhof\, -als Herzstück unter vielen\, die Andreas Wolf organisiert- bi
 etet mittlerweile mehr\, als die Möglichkeit\, die schönsten Dinge zu er
 werben.\nDer jahrelangen Markterfahrung u.a. ist es zu verdanken\, dass es
  dem Veranstalter und seinem Team gelingt\, ein nicht alltägliches Umfeld
  zu schaffen\, welches zum stundenlangen Verweilen einlädt. Denn zum Kuns
 thandwerkermarkt auf dem Kulturhof gehört auch dessen hochwertiges Kultur
 programm und die ausgewählte Verköstigung. Ob am Verkaufsstand bei der K
 äserei\, der Verkostung regionaler Weine im Hof\, im gemütlichen Kulturs
 aal mit herzhaften und süßen Delikatessen oder vorm Kulturcafé. Für Ge
 nuss und Gemütlichkeit finden sich viele Plätze.\n\nDazu ertönt handgem
 achte Instrumental- und Vokalmusik an wechselnden Orten\, die sich dem Mar
 ktgeschehen anpasst. Eines ist sicher\, der Kunsthandwerkermarkt auf dem K
 ulturhof ist alles andere als herkömmlich.\nDer Kulturhof Zickra freut si
 ch auf den Besuch von Jung und Alt und verspricht ein gelungenes Wochenend
 e mit nachhaltigen Erlebnissen.\n\nFür den Markt und sein Kulturprogramm 
 wird ein Eintrittsgeld von 5\,- Euro für Erwachsene erhoben\, Kinder bis 
 einschließlich 12 Jahre sind frei.
ATTACH;FMTTYPE=image/jpeg:https://kulturhof-zickra.de/wp-content/uploads/2
 025/05/Flyer_Zickra_Mai_A6-1.jpg
END:VEVENT
END:VCALENDAR